BEGIN:VCALENDAR
VERSION:2.0
PRODID:-// Hockwold cum Wilton Parish Council//Meeting Calendar//EN
CALSCALE:GREGORIAN
METHOD:PUBLISH
BEGIN:VEVENT
UID:70580-20250408@hockwoldcumwiltonparishcouncil.gov.uk
DTSTAMP:20260420T132344Z
DTSTART;VALUE=DATE:20250408
DTEND;VALUE=DATE:20250409
SUMMARY:Annual Parish Assembly &#8211\\; 8 April 2025
DESCRIPTION:Annual Parish Meeting\nView details: https://hockwoldcumwiltonparishcouncil.gov.uk/meetings/annual-parish-assembly-8-april-2025/
URL:https://hockwoldcumwiltonparishcouncil.gov.uk/meetings/annual-parish-assembly-8-april-2025/
END:VEVENT
END:VCALENDAR
