BEGIN:VCALENDAR
VERSION:2.0
PRODID:-// Hockwold cum Wilton Parish Council//Meeting Calendar//EN
CALSCALE:GREGORIAN
METHOD:PUBLISH
BEGIN:VEVENT
UID:70589-20250610@hockwoldcumwiltonparishcouncil.gov.uk
DTSTAMP:20260420T182612Z
DTSTART;VALUE=DATE:20250610
DTEND;VALUE=DATE:20250611
SUMMARY:Council Meeting &#8211\\; 10 June 2025
DESCRIPTION:Full Council Meeting\nView details: https://hockwoldcumwiltonparishcouncil.gov.uk/meetings/council-meeting-10-june-2025/
URL:https://hockwoldcumwiltonparishcouncil.gov.uk/meetings/council-meeting-10-june-2025/
END:VEVENT
END:VCALENDAR
