BEGIN:VCALENDAR
VERSION:2.0
PRODID:-// Hockwold cum Wilton Parish Council//Meeting Calendar//EN
CALSCALE:GREGORIAN
METHOD:PUBLISH
BEGIN:VEVENT
UID:70692-20250722@hockwoldcumwiltonparishcouncil.gov.uk
DTSTAMP:20260420T182203Z
DTSTART;VALUE=DATE:20250722
DTEND;VALUE=DATE:20250723
SUMMARY:Council Meeting &#8211\\; 22 July 2025
DESCRIPTION:Full Council Meeting\nView details: https://hockwoldcumwiltonparishcouncil.gov.uk/meetings/council-meeting-22-july-2025/
URL:https://hockwoldcumwiltonparishcouncil.gov.uk/meetings/council-meeting-22-july-2025/
END:VEVENT
END:VCALENDAR
