BEGIN:VCALENDAR
VERSION:2.0
PRODID:-// Hockwold cum Wilton Parish Council//Meeting Calendar//EN
CALSCALE:GREGORIAN
METHOD:PUBLISH
BEGIN:VEVENT
UID:70693-20250909@hockwoldcumwiltonparishcouncil.gov.uk
DTSTAMP:20260420T182535Z
DTSTART;VALUE=DATE:20250909
DTEND;VALUE=DATE:20250910
SUMMARY:Council Meeting &#8211\\; 9 September 2025
DESCRIPTION:Full Council Meeting\nView details: https://hockwoldcumwiltonparishcouncil.gov.uk/meetings/council-meeting-9-september-2025/
URL:https://hockwoldcumwiltonparishcouncil.gov.uk/meetings/council-meeting-9-september-2025/
END:VEVENT
END:VCALENDAR
