BEGIN:VCALENDAR
VERSION:2.0
PRODID:-// Hockwold cum Wilton Parish Council//Meeting Calendar//EN
CALSCALE:GREGORIAN
METHOD:PUBLISH
BEGIN:VEVENT
UID:70694-20251014@hockwoldcumwiltonparishcouncil.gov.uk
DTSTAMP:20260420T170739Z
DTSTART;VALUE=DATE:20251014
DTEND;VALUE=DATE:20251015
SUMMARY:Council Meeting &#8211\\; 14 October 2025
DESCRIPTION:Full Council Meeting\nView details: https://hockwoldcumwiltonparishcouncil.gov.uk/meetings/council-meeting-14-october-2025/
URL:https://hockwoldcumwiltonparishcouncil.gov.uk/meetings/council-meeting-14-october-2025/
END:VEVENT
END:VCALENDAR
