BEGIN:VCALENDAR
VERSION:2.0
PRODID:-// Hockwold cum Wilton Parish Council//Meeting Calendar//EN
CALSCALE:GREGORIAN
METHOD:PUBLISH
BEGIN:VEVENT
UID:70698-20250310@hockwoldcumwiltonparishcouncil.gov.uk
DTSTAMP:20260420T194546Z
DTSTART;VALUE=DATE:20250310
DTEND;VALUE=DATE:20250311
SUMMARY:Council Meeting &#8211\\; 10 March 2025
DESCRIPTION:Full Council Meeting\nView details: https://hockwoldcumwiltonparishcouncil.gov.uk/meetings/council-meeting-10-march-2025/
URL:https://hockwoldcumwiltonparishcouncil.gov.uk/meetings/council-meeting-10-march-2025/
END:VEVENT
END:VCALENDAR
