BEGIN:VCALENDAR
VERSION:2.0
PRODID:-// Hockwold cum Wilton Parish Council//Meeting Calendar//EN
CALSCALE:GREGORIAN
METHOD:PUBLISH
BEGIN:VEVENT
UID:70730-20260127@hockwoldcumwiltonparishcouncil.gov.uk
DTSTAMP:20260420T155232Z
DTSTART;VALUE=DATE:20260127
DTEND;VALUE=DATE:20260128
SUMMARY:Extraordinary Council Meeting &#8211\\; 27th January 2026
DESCRIPTION:Full Council Meeting\nView details: https://hockwoldcumwiltonparishcouncil.gov.uk/meetings/extraordinary-council-meeting-27th-january-2026/
URL:https://hockwoldcumwiltonparishcouncil.gov.uk/meetings/extraordinary-council-meeting-27th-january-2026/
END:VEVENT
END:VCALENDAR
