BEGIN:VCALENDAR
VERSION:2.0
PRODID:-// Hockwold cum Wilton Parish Council//Meeting Calendar//EN
CALSCALE:GREGORIAN
METHOD:PUBLISH
BEGIN:VEVENT
UID:70732-20260113@hockwoldcumwiltonparishcouncil.gov.uk
DTSTAMP:20260420T170355Z
DTSTART;VALUE=DATE:20260113
DTEND;VALUE=DATE:20260114
SUMMARY:Council Meeting &#8211\\; 13th January 2026
DESCRIPTION:Full Council Meeting\nView details: https://hockwoldcumwiltonparishcouncil.gov.uk/meetings/council-meeting-13th-january-2026/
URL:https://hockwoldcumwiltonparishcouncil.gov.uk/meetings/council-meeting-13th-january-2026/
END:VEVENT
END:VCALENDAR
