BEGIN:VCALENDAR
VERSION:2.0
PRODID:-// Hockwold cum Wilton Parish Council//Meeting Calendar//EN
CALSCALE:GREGORIAN
METHOD:PUBLISH
BEGIN:VEVENT
UID:70742-20260210@hockwoldcumwiltonparishcouncil.gov.uk
DTSTAMP:20260420T155153Z
DTSTART;VALUE=DATE:20260210
DTEND;VALUE=DATE:20260211
SUMMARY:Council Meeting-10th February 2026
DESCRIPTION:Full Council Meeting\nView details: https://hockwoldcumwiltonparishcouncil.gov.uk/meetings/meeting-name-here/
URL:https://hockwoldcumwiltonparishcouncil.gov.uk/meetings/meeting-name-here/
END:VEVENT
END:VCALENDAR
