BEGIN:VCALENDAR
VERSION:2.0
PRODID:-// Hockwold cum Wilton Parish Council//Meeting Calendar//EN
CALSCALE:GREGORIAN
METHOD:PUBLISH
BEGIN:VEVENT
UID:70747-20260310@hockwoldcumwiltonparishcouncil.gov.uk
DTSTAMP:20260420T155406Z
DTSTART;VALUE=DATE:20260310
DTEND;VALUE=DATE:20260311
SUMMARY:Council Meeting-10th March 2026
DESCRIPTION:Full Council Meeting\nView details: https://hockwoldcumwiltonparishcouncil.gov.uk/meetings/meeting-name-here-2/
URL:https://hockwoldcumwiltonparishcouncil.gov.uk/meetings/meeting-name-here-2/
END:VEVENT
END:VCALENDAR
