BEGIN:VCALENDAR
VERSION:2.0
PRODID:-// Hockwold cum Wilton Parish Council//Meeting Calendar//EN
CALSCALE:GREGORIAN
METHOD:PUBLISH
BEGIN:VEVENT
UID:70753-20260512@hockwoldcumwiltonparishcouncil.gov.uk
DTSTAMP:20260420T113445Z
DTSTART;VALUE=DATE:20260512
DTEND;VALUE=DATE:20260513
SUMMARY:Annual Parish Council Meeting-12th May 2026
DESCRIPTION:Annual Parish Meeting\nView details: https://hockwoldcumwiltonparishcouncil.gov.uk/meetings/annual-parish-council-meeting-12th-may-2026/
URL:https://hockwoldcumwiltonparishcouncil.gov.uk/meetings/annual-parish-council-meeting-12th-may-2026/
END:VEVENT
END:VCALENDAR
